BEGIN:VCALENDAR
VERSION:2.0
PRODID:-//Club Justine Henin - ECPv6.15.17.1//NONSGML v1.0//EN
CALSCALE:GREGORIAN
METHOD:PUBLISH
X-WR-CALNAME:Club Justine Henin
X-ORIGINAL-URL:https://club.justinehenin.be
X-WR-CALDESC:Évènements pour Club Justine Henin
REFRESH-INTERVAL;VALUE=DURATION:PT1H
X-Robots-Tag:noindex
X-PUBLISHED-TTL:PT1H
BEGIN:VTIMEZONE
TZID:Europe/Brussels
BEGIN:DAYLIGHT
TZOFFSETFROM:+0100
TZOFFSETTO:+0200
TZNAME:CEST
DTSTART:20220327T010000
END:DAYLIGHT
BEGIN:STANDARD
TZOFFSETFROM:+0200
TZOFFSETTO:+0100
TZNAME:CET
DTSTART:20221030T010000
END:STANDARD
BEGIN:DAYLIGHT
TZOFFSETFROM:+0100
TZOFFSETTO:+0200
TZNAME:CEST
DTSTART:20230326T010000
END:DAYLIGHT
BEGIN:STANDARD
TZOFFSETFROM:+0200
TZOFFSETTO:+0100
TZNAME:CET
DTSTART:20231029T010000
END:STANDARD
BEGIN:DAYLIGHT
TZOFFSETFROM:+0100
TZOFFSETTO:+0200
TZNAME:CEST
DTSTART:20240331T010000
END:DAYLIGHT
BEGIN:STANDARD
TZOFFSETFROM:+0200
TZOFFSETTO:+0100
TZNAME:CET
DTSTART:20241027T010000
END:STANDARD
END:VTIMEZONE
BEGIN:VEVENT
DTSTART;TZID=Europe/Brussels:20231107T193000
DTEND;TZID=Europe/Brussels:20231107T203000
DTSTAMP:20260425T130841
CREATED:20231103T130214Z
LAST-MODIFIED:20231104T163958Z
UID:10000056-1699385400-1699389000@club.justinehenin.be
SUMMARY:Visioconférence : vous souhaitez partir étudier aux USA
DESCRIPTION:  \nVous avez envie de partir étudier aux États-Unis avec une bourse tennistique ? Nous organisons une présentation en visioconférence ce mardi 7 novembre\, animée par Benoit de Overboarder. Il abordera le processus de recrutement des universités américaines en combinaison avec leur programme de tennis. Au programme : aperçu du test d’entrée\, des prérequis scolaires\, des niveaux tennistiques\, des programmes sportifs\, des types d’études\, des diplômes et des dates de voyage. \n  \nQui : Les joueurs de l’académie \nQuand : Mardi 7 novembre à 19h30 \nPrix : Gratuit \nInscription obligatoire via ce formulaire : Cliquez ici
URL:https://club.justinehenin.be/evenement/visioconference-vous-souhaitez-partir-etudier-aux-usa/
ATTACH;FMTTYPE=image/png:https://club.justinehenin.be/wp-content/uploads/sites/4/2023/11/invitation-visioconference.png
END:VEVENT
BEGIN:VEVENT
DTSTART;TZID=Europe/Brussels:20231111T163000
DTEND;TZID=Europe/Brussels:20231111T183000
DTSTAMP:20260425T130841
CREATED:20231103T130638Z
LAST-MODIFIED:20231106T142233Z
UID:10000057-1699720200-1699727400@club.justinehenin.be
SUMMARY:Doubles mixtes adultes
DESCRIPTION:Envie de rencontrer d’autres joueurs et de passer un agréable moment tennistique ? En tant que membre du Club Justine Henin\, nous vous donnons rendez-vous\, quel que soit votre niveau\, ce samedi 11 novembre à 16h30 pour des rencontres de doubles (doubles dames\, doubles messieurs et doubles mixtes.)  Au programme : échauffement\, petits exercices et matches de doubles pour le fun. L’animation sera encadrée par un coach de l’académie. Après la rencontre\, vous aurez la possibilité de prendre un verre et de profiter de notre petite restauration au bar du clubhouse. à A vos raquettes ! \nQui : Les membres du Club ou de l’académie \nPrix : 10€ /pers pour l’animation \nInscription obligatoire via ce lien : Cliquez ici
URL:https://club.justinehenin.be/evenement/doubles-mixtes-adultes/
LOCATION:Club Justine Henin\, Avenue Léon Fournet 20\, Limelette\, 1342\, Belgique
ATTACH;FMTTYPE=image/png:https://club.justinehenin.be/wp-content/uploads/sites/4/2023/11/celebrons-ensemble-les-meilleures-performance-tennistiques-de-2023-1.png
END:VEVENT
BEGIN:VEVENT
DTSTART;TZID=Europe/Brussels:20231119T140000
DTEND;TZID=Europe/Brussels:20231119T160000
DTSTAMP:20260425T130841
CREATED:20231103T130801Z
LAST-MODIFIED:20231106T142033Z
UID:10000058-1700402400-1700409600@club.justinehenin.be
SUMMARY:Défier les joueurs du Tennis-Etudes de l’Académie
DESCRIPTION:Vous faites partie du programme TEAM PERFORMANCE ?  Vous avez envie de vous mesurer aux joueurs du Tennis-Études de l’Académie Justine Henin ? Nous organisons une rencontre au sommet avec Michel et Sarah\, tous deux évoluant respectivement sur les circuits ITF junior et WTA. Ils seront présents le dimanche 19 novembre pour vous défier sur les courts du Club Justine Henin. Un système de handicap sera mis en place pour donner à chacun une chance de remporter le match. L’activité sera encadrée par un coach de l’académie. Êtes-vous prêt(e) à relever le défi ? \nQui : joueurs du Team Performance  \nQuand : Dimanche 19/11 – de 14h00 à 16h00 \nPrix : 8€ / joueur \nInscription obligatoire et uniquement via ce lien : Cliquez ici
URL:https://club.justinehenin.be/evenement/defier-les-joueurs-du-tennis-etudes-de-lacademie/
LOCATION:Club Justine Henin\, Avenue Léon Fournet 20\, Limelette\, 1342\, Belgique
CATEGORIES:Animations
ATTACH;FMTTYPE=image/png:https://club.justinehenin.be/wp-content/uploads/sites/4/2023/11/menu-3.png
END:VEVENT
END:VCALENDAR