BEGIN:VCALENDAR
VERSION:2.0
PRODID:-//Club Justine Henin - ECPv6.15.17.1//NONSGML v1.0//EN
CALSCALE:GREGORIAN
METHOD:PUBLISH
X-WR-CALNAME:Club Justine Henin
X-ORIGINAL-URL:https://club.justinehenin.be
X-WR-CALDESC:Évènements pour Club Justine Henin
REFRESH-INTERVAL;VALUE=DURATION:PT1H
X-Robots-Tag:noindex
X-PUBLISHED-TTL:PT1H
BEGIN:VTIMEZONE
TZID:Europe/Brussels
BEGIN:DAYLIGHT
TZOFFSETFROM:+0100
TZOFFSETTO:+0200
TZNAME:CEST
DTSTART:20220327T010000
END:DAYLIGHT
BEGIN:STANDARD
TZOFFSETFROM:+0200
TZOFFSETTO:+0100
TZNAME:CET
DTSTART:20221030T010000
END:STANDARD
BEGIN:DAYLIGHT
TZOFFSETFROM:+0100
TZOFFSETTO:+0200
TZNAME:CEST
DTSTART:20230326T010000
END:DAYLIGHT
BEGIN:STANDARD
TZOFFSETFROM:+0200
TZOFFSETTO:+0100
TZNAME:CET
DTSTART:20231029T010000
END:STANDARD
BEGIN:DAYLIGHT
TZOFFSETFROM:+0100
TZOFFSETTO:+0200
TZNAME:CEST
DTSTART:20240331T010000
END:DAYLIGHT
BEGIN:STANDARD
TZOFFSETFROM:+0200
TZOFFSETTO:+0100
TZNAME:CET
DTSTART:20241027T010000
END:STANDARD
END:VTIMEZONE
BEGIN:VEVENT
DTSTART;TZID=Europe/Brussels:20231206T140000
DTEND;TZID=Europe/Brussels:20231206T163000
DTSTAMP:20260425T145627
CREATED:20231129T154055Z
LAST-MODIFIED:20231129T164339Z
UID:10000059-1701871200-1701880200@club.justinehenin.be
SUMMARY:VISITE DE SAINT-NICOLAS
DESCRIPTION:  \nSaint-Nicolas viendra rendre visite à tous les enfants de l’académie le mercredi 6 décembre. Il arrivera à 14h au club et y restera jusque 16h30 ! En fin connaisseur de tennis\, il passera également sur les courts entre 15h15 et 15h45. Il a bien évidemment prévu quelques petites surprises pour tous les enfants présents. \nVenez nombreux ! \nQui : Pour tous les enfants sages (et moins sages ;-)) \nQuand : Mercredi 06/12 – de 14h à 16h30
URL:https://club.justinehenin.be/evenement/mercredi-6-decembre-visite-de-saint-nicolas/
LOCATION:Club Justine Henin\, Avenue Léon Fournet 20\, Limelette\, 1342\, Belgique
ATTACH;FMTTYPE=image/png:https://club.justinehenin.be/wp-content/uploads/sites/4/2023/11/visite-de-saint-nicolas-mercredi-6-decembre-2023-de-14h-a-16h30-1.png
END:VEVENT
BEGIN:VEVENT
DTSTART;TZID=Europe/Brussels:20231216T140000
DTEND;TZID=Europe/Brussels:20231216T223000
DTSTAMP:20260425T145627
CREATED:20231129T164159Z
LAST-MODIFIED:20231129T164235Z
UID:10000061-1702735200-1702765800@club.justinehenin.be
SUMMARY:MARCHE ET DÎNER DE NOËL
DESCRIPTION:  \nL’ambiance magique des fêtes de fin d’année s’installe doucement…Nous sommes ravis de vous inviter au marché et repas de Noël du Club Justine Henin le samedi 16 décembre à partir de 14h pour un moment de convivialité et de partage ! \nNotre marché de Noël sera unique car il visera à mettre en valeur les talents de nos membres ou des amis de nos membres ;-). Dès lors\,  si\, en plus de votre talent pour le tennis\, vous avez une passion ou un don pour la peinture\, la sculpture\, la couture\, la cuisine\, la musique\, la réalisation de bijoux\,… alors c’est le moment d’en faire profiter tout le monde !  Nous vous proposons de venir exposer et vendre vos réalisations artisanales le samedi 16 décembre à partir de 14h.  Motivé (e) ? Il suffit de vous inscrire en remplissant le formulaire suivant : Cliquez ici \nAttention\, clôture des inscriptions en tant qu’exposant le 8 décembre au plus tard. \nRendez-vous le 16 décembre pour venir découvrir les talents de nos membres\, déguster un cougnou\, un chocolat chaud ou un vin chaud… \nEt pour clôturer cette belle après-midi\, nous vous proposons une succulente tartiflette. \nQui : ouvert à tous \nQuand : Samedi 16 décembre à partir de 14h \nPrix \n\nVisiteur : gratuit\nExposant : Gratuit pour les membres – 25€ pour les non-membres\nDîner tartiflette à partir de 19h30 :\n\nAdultes (hors boissons) : 15€ Cliquez ici pour l’inscription\nEnfants (moins de 12 ans et hors boissons) : 10€ Cliquez ici pour l’inscription
URL:https://club.justinehenin.be/evenement/marche-et-diner-de-noel/
ATTACH;FMTTYPE=image/png:https://club.justinehenin.be/wp-content/uploads/sites/4/2023/11/copie-de-affiche-marche-de-noel-illustree-1.png
END:VEVENT
BEGIN:VEVENT
DTSTART;TZID=Europe/Brussels:20231216T170000
DTEND;TZID=Europe/Brussels:20231216T190000
DTSTAMP:20260425T145627
CREATED:20231129T163323Z
LAST-MODIFIED:20231129T164202Z
UID:10000060-1702746000-1702753200@club.justinehenin.be
SUMMARY:DOUBLES MIXTES ADULTES
DESCRIPTION:Après le succès de la 1ère rencontre\, nous vous convions à nouveau à notre activité\, Doubles Adultes le samedi 16 décembre de 17h à 19h. En tant que membre\, vous avez désormais la possibilité d’inviter un(e) ami(e). \nAu programme : échauffement\, petits exercices et matches de doubles pour le fun (dames\, messieurs et mixtes). L’animation sera encadrée par Indy\, coach de l’académie. Après la rencontre\, nous vous proposons de poursuivre la soirée en partageant une délicieuse tartiflette. A vos raquettes ! \nQuand : Samedi 16 décembre – de 17h à 19h \nPrix : \n\nAnimation : 10€ /pers pour l’animation Cliquez ici pour l’inscription\nDîner tartiflette à partir de 19h30 :\n\nAdultes (hors boissons) : 15€ Cliquez ici pour l’inscription\nEnfants (moins de 12 ans et hors boissons) : 10€ Cliquez ici pour l’inscription
URL:https://club.justinehenin.be/evenement/doubles-mixtes-adultes-2/
ATTACH;FMTTYPE=image/png:https://club.justinehenin.be/wp-content/uploads/sites/4/2023/11/doubles-16-decembre-2023.png
END:VEVENT
END:VCALENDAR